BEGIN:VCALENDAR
VERSION:2.0
PRODID:-//Al Haadi Academy - ECPv6.15.18//NONSGML v1.0//EN
CALSCALE:GREGORIAN
METHOD:PUBLISH
X-WR-CALNAME:Al Haadi Academy
X-ORIGINAL-URL:https://alhaadiacademy.ca
X-WR-CALDESC:Events for Al Haadi Academy
REFRESH-INTERVAL;VALUE=DURATION:PT1H
X-Robots-Tag:noindex
X-PUBLISHED-TTL:PT1H
BEGIN:VTIMEZONE
TZID:UTC
BEGIN:STANDARD
TZOFFSETFROM:+0000
TZOFFSETTO:+0000
TZNAME:UTC
DTSTART:20250101T000000
END:STANDARD
END:VTIMEZONE
BEGIN:VEVENT
DTSTART;VALUE=DATE:20260424
DTEND;VALUE=DATE:20260425
DTSTAMP:20260423T135839
CREATED:20251001T173910Z
LAST-MODIFIED:20251001T173910Z
UID:3083-1776988800-1777075199@alhaadiacademy.ca
SUMMARY:Annual Science Fair
DESCRIPTION:
URL:https://alhaadiacademy.ca/event/annual-science-fair-2/
CATEGORIES:School Events
END:VEVENT
BEGIN:VEVENT
DTSTART;VALUE=DATE:20260518
DTEND;VALUE=DATE:20260519
DTSTAMP:20260423T135839
CREATED:20251001T173939Z
LAST-MODIFIED:20251001T173939Z
UID:3085-1779062400-1779148799@alhaadiacademy.ca
SUMMARY:Victoria Day
DESCRIPTION:
URL:https://alhaadiacademy.ca/event/victoria-day-3/
CATEGORIES:Statuary Holidays
END:VEVENT
BEGIN:VEVENT
DTSTART;VALUE=DATE:20260526
DTEND;VALUE=DATE:20260527
DTSTAMP:20260423T135839
CREATED:20251001T174007Z
LAST-MODIFIED:20251001T174007Z
UID:3087-1779753600-1779839999@alhaadiacademy.ca
SUMMARY:Arafah Day
DESCRIPTION:
URL:https://alhaadiacademy.ca/event/arafah-day/
CATEGORIES:Islamic Events
END:VEVENT
BEGIN:VEVENT
DTSTART;VALUE=DATE:20260527
DTEND;VALUE=DATE:20260528
DTSTAMP:20260423T135839
CREATED:20251001T174032Z
LAST-MODIFIED:20251001T174032Z
UID:3089-1779840000-1779926399@alhaadiacademy.ca
SUMMARY:Eid ul Adha
DESCRIPTION:
URL:https://alhaadiacademy.ca/event/eid-ul-adha-3/
CATEGORIES:Islamic Events
END:VEVENT
BEGIN:VEVENT
DTSTART;VALUE=DATE:20260529
DTEND;VALUE=DATE:20260530
DTSTAMP:20260423T135839
CREATED:20251001T174053Z
LAST-MODIFIED:20251001T174053Z
UID:3091-1780012800-1780099199@alhaadiacademy.ca
SUMMARY:Field Trip
DESCRIPTION:
URL:https://alhaadiacademy.ca/event/field-trip-11/
CATEGORIES:Field Trips
END:VEVENT
BEGIN:VEVENT
DTSTART;VALUE=DATE:20260601
DTEND;VALUE=DATE:20260604
DTSTAMP:20260423T135839
CREATED:20251001T174127Z
LAST-MODIFIED:20251001T174127Z
UID:3093-1780272000-1780531199@alhaadiacademy.ca
SUMMARY:Final Term Exams (Grade 7&8)
DESCRIPTION:
URL:https://alhaadiacademy.ca/event/final-term-exams-grade-78/
CATEGORIES:Exams (Grade 7 and 8)
END:VEVENT
BEGIN:VEVENT
DTSTART;VALUE=DATE:20260612
DTEND;VALUE=DATE:20260613
DTSTAMP:20260423T135839
CREATED:20251001T174152Z
LAST-MODIFIED:20251001T174152Z
UID:3095-1781222400-1781308799@alhaadiacademy.ca
SUMMARY:Graduation
DESCRIPTION:
URL:https://alhaadiacademy.ca/event/graduation/
CATEGORIES:School Events
END:VEVENT
BEGIN:VEVENT
DTSTART;VALUE=DATE:20260619
DTEND;VALUE=DATE:20260620
DTSTAMP:20260423T135839
CREATED:20251001T174217Z
LAST-MODIFIED:20251001T174217Z
UID:3097-1781827200-1781913599@alhaadiacademy.ca
SUMMARY:Final Term Report  Cards
DESCRIPTION:
URL:https://alhaadiacademy.ca/event/final-term-report-cards/
CATEGORIES:School Events
END:VEVENT
BEGIN:VEVENT
DTSTART;VALUE=DATE:20260625
DTEND;VALUE=DATE:20260626
DTSTAMP:20260423T135839
CREATED:20251001T174242Z
LAST-MODIFIED:20251001T174242Z
UID:3099-1782345600-1782431999@alhaadiacademy.ca
SUMMARY:Last Day of School
DESCRIPTION:
URL:https://alhaadiacademy.ca/event/last-day-of-school-2/
CATEGORIES:School Events
END:VEVENT
END:VCALENDAR